BEGIN:VCALENDAR
VERSION:2.0
PRODID:-//Brazos Valley Vodka Company - ECPv5.8.1//NONSGML v1.0//EN
CALSCALE:GREGORIAN
METHOD:PUBLISH
X-WR-CALNAME:Brazos Valley Vodka Company
X-ORIGINAL-URL:https://brazosvalleyvodkacompany.com
X-WR-CALDESC:Events for Brazos Valley Vodka Company
BEGIN:VTIMEZONE
TZID:UTC
BEGIN:STANDARD
TZOFFSETFROM:+0000
TZOFFSETTO:+0000
TZNAME:UTC
DTSTART:20220101T000000
END:STANDARD
END:VTIMEZONE
BEGIN:VEVENT
DTSTART;TZID=UTC:20220521T140000
DTEND;TZID=UTC:20220521T170000
DTSTAMP:20260425T211341
CREATED:20220513T045641Z
LAST-MODIFIED:20220513T045641Z
UID:2922-1653141600-1653152400@brazosvalleyvodkacompany.com
SUMMARY:Tasting in Porter @ Specs’ Off US 59 #500
DESCRIPTION:23611 US 59 #500 \nPorter\, Texas 77365
URL:https://brazosvalleyvodkacompany.com/event/tasting-in-porter-specs-off-us-59-500/
END:VEVENT
END:VCALENDAR